{
 "currentVersion": 10.91,
 "serviceDescription": "Hecker_IL/Hecker_2021",
 "name": "Hecker_IL/Hecker_2021",
 "description": "",
 "extent": {
  "xmin": 2334114.2572382605,
  "ymin": 583511.5168305751,
  "xmax": 2369076.2572382605,
  "ymax": 601501.0168305751,
  "spatialReference": {
   "wkid": 102672,
   "latestWkid": 3436
  }
 },
 "initialExtent": {
  "xmin": 2334114.2572382605,
  "ymin": 583511.5168305751,
  "xmax": 2369076.2572382605,
  "ymax": 601501.0168305751,
  "spatialReference": {
   "wkid": 102672,
   "latestWkid": 3436
  }
 },
 "fullExtent": {
  "xmin": 2334114.2572382605,
  "ymin": 583511.5168305751,
  "xmax": 2369076.2572382605,
  "ymax": 601501.0168305751,
  "spatialReference": {
   "wkid": 102672,
   "latestWkid": 3436
  }
 },
 "hasMultidimensions": false,
 "pixelSizeX": 0.25,
 "pixelSizeY": 0.25,
 "datasetFormat": "SDR",
 "uncompressedSize": 40252729536,
 "blockWidth": 128,
 "blockHeight": 128,
 "compressionType": "LZ77",
 "bandNames": [
  "Band_1",
  "Band_2",
  "Band_3",
  "Band_4"
 ],
 "allowCopy": true,
 "allowAnalysis": true,
 "bandCount": 4,
 "pixelType": "U8",
 "minPixelSize": 0,
 "maxPixelSize": 0,
 "copyrightText": "",
 "serviceDataType": "esriImageServiceDataTypeGeneric",
 "serviceSourceType": "esriImageServiceSourceTypeDataset",
 "minValues": [
  0,
  0,
  0,
  0
 ],
 "maxValues": [
  255,
  255,
  255,
  255
 ],
 "meanValues": [
  116.8661526931936,
  115.22427619463485,
  116.10114486582478,
  254.98718797671748
 ],
 "stdvValues": [
  33.290778506047666,
  30.27734157138406,
  27.38510202664106,
  1.8067684524561378
 ],
 "objectIdField": "",
 "fields": [],
 "capabilities": "Image,Metadata,Mensuration",
 "defaultMosaicMethod": "Center",
 "allowedMosaicMethods": "",
 "sortField": "",
 "sortValue": null,
 "sortAscending": true,
 "mosaicOperator": "First",
 "defaultCompressionQuality": 95,
 "defaultResamplingMethod": "Bilinear",
 "maxImageHeight": 4100,
 "maxImageWidth": 15000,
 "allowRasterFunction": true,
 "rasterFunctionInfos": [
  {
   "name": "None",
   "description": "",
   "help": ""
  }
 ],
 "rasterTypeInfos": [
  {
   "name": "Raster Dataset",
   "description": "Supports all ArcGIS Raster Datasets",
   "help": ""
  }
 ],
 "mensurationCapabilities": "Basic",
 "hasHistograms": true,
 "hasColormap": false,
 "hasRasterAttributeTable": false,
 "minScale": 0,
 "maxScale": 0,
 "exportTilesAllowed": false,
 "supportsStatistics": false,
 "supportsAdvancedQueries": false,
 "editFieldsInfo": null,
 "ownershipBasedAccessControlForRasters": null,
 "allowComputeTiePoints": false,
 "useStandardizedQueries": true,
 "advancedQueryCapabilities": {
  "useStandardizedQueries": true,
  "supportsStatistics": false,
  "supportsOrderBy": false,
  "supportsDistinct": false,
  "supportsPagination": false
 },
 "spatialReference": {
  "wkid": 102672,
  "latestWkid": 3436
 }
}
