{
 "currentVersion": 10.91,
 "serviceDescription": "TWM_Survey/p180777_A1C_UAV",
 "name": "TWM_Survey/p180777_A1C_UAV",
 "description": "",
 "extent": {
  "xmin": -1.0367980977801789E7,
  "ymin": 4806116.3533743415,
  "xmax": -1.0367321088352969E7,
  "ymax": 4807017.1508546565,
  "spatialReference": {
   "wkid": 102100,
   "latestWkid": 3857
  }
 },
 "initialExtent": {
  "xmin": -1.0367980977801789E7,
  "ymin": 4806116.3533743415,
  "xmax": -1.0367321088352969E7,
  "ymax": 4807017.1508546565,
  "spatialReference": {
   "wkid": 102100,
   "latestWkid": 3857
  }
 },
 "fullExtent": {
  "xmin": -1.0367980977801789E7,
  "ymin": 4806116.3533743415,
  "xmax": -1.0367321088352969E7,
  "ymax": 4807017.1508546565,
  "spatialReference": {
   "wkid": 102100,
   "latestWkid": 3857
  }
 },
 "hasMultidimensions": false,
 "pixelSizeX": 0.01795275590553315,
 "pixelSizeY": 0.017952755905512,
 "datasetFormat": "FGDBR",
 "uncompressedSize": 5532847425,
 "blockWidth": 128,
 "blockHeight": 128,
 "compressionType": "LZ77",
 "bandNames": [
  "Band_1",
  "Band_2",
  "Band_3"
 ],
 "allowCopy": true,
 "allowAnalysis": true,
 "bandCount": 3,
 "pixelType": "U8",
 "minPixelSize": 0,
 "maxPixelSize": 0,
 "copyrightText": "",
 "serviceDataType": "esriImageServiceDataTypeRGB",
 "serviceSourceType": "esriImageServiceSourceTypeDataset",
 "minValues": [
  0,
  0,
  0
 ],
 "maxValues": [
  255,
  255,
  255
 ],
 "meanValues": [
  84.33351049958489,
  93.07323890299313,
  88.64781372434301
 ],
 "stdvValues": [
  74.73479775442146,
  77.36402492323091,
  76.45441090675891
 ],
 "objectIdField": "",
 "fields": [],
 "capabilities": "Image,Metadata,Mensuration",
 "defaultMosaicMethod": "Center",
 "allowedMosaicMethods": "",
 "sortField": "",
 "sortValue": null,
 "sortAscending": true,
 "mosaicOperator": "First",
 "defaultCompressionQuality": 75,
 "defaultResamplingMethod": "Bilinear",
 "maxImageHeight": 4100,
 "maxImageWidth": 15000,
 "allowRasterFunction": true,
 "rasterFunctionInfos": [
  {
   "name": "None",
   "description": "",
   "help": ""
  }
 ],
 "rasterTypeInfos": [
  {
   "name": "Raster Dataset",
   "description": "Supports all ArcGIS Raster Datasets",
   "help": ""
  }
 ],
 "mensurationCapabilities": "Basic",
 "hasHistograms": true,
 "hasColormap": false,
 "hasRasterAttributeTable": false,
 "minScale": 0,
 "maxScale": 0,
 "exportTilesAllowed": false,
 "supportsStatistics": false,
 "supportsAdvancedQueries": false,
 "editFieldsInfo": null,
 "ownershipBasedAccessControlForRasters": null,
 "allowComputeTiePoints": false,
 "useStandardizedQueries": true,
 "advancedQueryCapabilities": {
  "useStandardizedQueries": true,
  "supportsStatistics": false,
  "supportsOrderBy": false,
  "supportsDistinct": false,
  "supportsPagination": false
 },
 "spatialReference": {
  "wkid": 102100,
  "latestWkid": 3857
 }
}
