<?xml version="1.0" encoding="UTF-8" standalone="no"?>
<metadata xml:lang="en">
<Esri>
<CreaDate>20210729</CreaDate>
<CreaTime>08183800</CreaTime>
<ArcGISFormat>1.0</ArcGISFormat>
<SyncOnce>FALSE</SyncOnce>
<DataProperties>
<lineage>
<Process Date="20210729" Time="081838" ToolSource="c:\program files\arcgis\pro\Resources\ArcToolbox\toolboxes\Data Management Tools.tbx\MosaicToNewRaster">MosaicToNewRaster A2g\180777A1G_transparent_mosaic_group1_11_6.ecw;A2g\180777A1G_transparent_mosaic_group1_11_5.ecw;A2g\180777A1G_transparent_mosaic_group1_10_7.ecw;A2g\180777A1G_transparent_mosaic_group1_10_6.ecw;A2g\180777A1G_transparent_mosaic_group1_10_5.ecw;A2g\180777A1G_transparent_mosaic_group1_9_7.ecw;A2g\180777A1G_transparent_mosaic_group1_9_6.ecw;A2g\180777A1G_transparent_mosaic_group1_9_5.ecw;A2g\180777A1G_transparent_mosaic_group1_8_7.ecw;A2g\180777A1G_transparent_mosaic_group1_8_6.ecw;A2g\180777A1G_transparent_mosaic_group1_8_5.ecw;A2g\180777A1G_transparent_mosaic_group1_7_7.ecw;A2g\180777A1G_transparent_mosaic_group1_7_6.ecw;A2g\180777A1G_transparent_mosaic_group1_7_5.ecw;A2g\180777A1G_transparent_mosaic_group1_6_7.ecw;A2g\180777A1G_transparent_mosaic_group1_6_6.ecw;A2g\180777A1G_transparent_mosaic_group1_6_5.ecw;A2g\180777A1G_transparent_mosaic_group1_5_7.ecw;A2g\180777A1G_transparent_mosaic_group1_5_6.ecw;A2g\180777A1G_transparent_mosaic_group1_5_5.ecw;A2g\180777A1G_transparent_mosaic_group1_4_7.ecw;A2g\180777A1G_transparent_mosaic_group1_4_6.ecw;A2g\180777A1G_transparent_mosaic_group1_4_5.ecw;A2g\180777A1G_transparent_mosaic_group1_3_7.ecw;A2g\180777A1G_transparent_mosaic_group1_3_6.ecw;A2g\180777A1G_transparent_mosaic_group1_3_5.ecw;A2g\180777A1G_transparent_mosaic_group1_3_4.ecw;A2g\180777A1G_transparent_mosaic_group1_3_3.ecw;A2g\180777A1G_transparent_mosaic_group1_2_7.ecw;A2g\180777A1G_transparent_mosaic_group1_2_6.ecw;A2g\180777A1G_transparent_mosaic_group1_2_5.ecw;A2g\180777A1G_transparent_mosaic_group1_2_4.ecw;A2g\180777A1G_transparent_mosaic_group1_2_3.ecw;A2g\180777A1G_transparent_mosaic_group1_2_2.ecw;A2g\180777A1G_transparent_mosaic_group1_2_1.ecw;A2g\180777A1G_transparent_mosaic_group1_1_4.ecw;A2g\180777A1G_transparent_mosaic_group1_1_3.ecw;A2g\180777A1G_transparent_mosaic_group1_1_2.ecw;A2g\180777A1G_transparent_mosaic_group1_1_1.ecw "C:\Users\bmersinger\Desktop\GIS Projects\180777\p180777.gdb" Area_A1_G_UAV PROJCS["NAD_1983_StatePlane_Missouri_Central_FIPS_2402_Feet",GEOGCS["GCS_North_American_1983",DATUM["D_North_American_1983",SPHEROID["GRS_1980",6378137.0,298.257222101]],PRIMEM["Greenwich",0.0],UNIT["Degree",0.0174532925199433]],PROJECTION["Transverse_Mercator"],PARAMETER["False_Easting",1640416.666666667],PARAMETER["False_Northing",0.0],PARAMETER["Central_Meridian",-92.5],PARAMETER["Scale_Factor",0.9999333333333333],PARAMETER["Latitude_Of_Origin",35.83333333333334],UNIT["Foot_US",0.3048006096012192]] "8 bit unsigned" # 3 Last First</Process>
</lineage>
<itemProps>
<itemName Sync="TRUE">TWM_IMAGERY.SDE.p180777_A2G_UAV</itemName>
<imsContentType Sync="TRUE">002</imsContentType>
<nativeExtBox>
<westBL Sync="TRUE">-10428340.226757</westBL>
<eastBL Sync="TRUE">-10427089.039417</eastBL>
<southBL Sync="TRUE">4764970.256405</southBL>
<northBL Sync="TRUE">4765799.071149</northBL>
<exTypeCode Sync="TRUE">1</exTypeCode>
</nativeExtBox>
<itemLocation>
<linkage Sync="TRUE">Server=twmswdb1; Service=sde:sqlserver:twmswdb1; Database=TWM_IMAGERY; User=sde; Version=sde.DEFAULT</linkage>
<protocol Sync="TRUE">ArcSDE Connection</protocol>
</itemLocation>
</itemProps>
<coordRef>
<type Sync="TRUE">Projected</type>
<geogcsn Sync="TRUE">GCS_WGS_1984</geogcsn>
<csUnits Sync="TRUE">Linear Unit: Meter (1.000000)</csUnits>
<projcsn Sync="TRUE">WGS_1984_Web_Mercator_Auxiliary_Sphere</projcsn>
<peXml Sync="TRUE">&lt;ProjectedCoordinateSystem xsi:type='typens:ProjectedCoordinateSystem' xmlns:xsi='http://www.w3.org/2001/XMLSchema-instance' xmlns:xs='http://www.w3.org/2001/XMLSchema' xmlns:typens='http://www.esri.com/schemas/ArcGIS/10.8'&gt;&lt;WKT&gt;PROJCS[&amp;quot;WGS_1984_Web_Mercator_Auxiliary_Sphere&amp;quot;,GEOGCS[&amp;quot;GCS_WGS_1984&amp;quot;,DATUM[&amp;quot;D_WGS_1984&amp;quot;,SPHEROID[&amp;quot;WGS_1984&amp;quot;,6378137.0,298.257223563]],PRIMEM[&amp;quot;Greenwich&amp;quot;,0.0],UNIT[&amp;quot;Degree&amp;quot;,0.0174532925199433]],PROJECTION[&amp;quot;Mercator_Auxiliary_Sphere&amp;quot;],PARAMETER[&amp;quot;False_Easting&amp;quot;,0.0],PARAMETER[&amp;quot;False_Northing&amp;quot;,0.0],PARAMETER[&amp;quot;Central_Meridian&amp;quot;,0.0],PARAMETER[&amp;quot;Standard_Parallel_1&amp;quot;,0.0],PARAMETER[&amp;quot;Auxiliary_Sphere_Type&amp;quot;,0.0],UNIT[&amp;quot;Meter&amp;quot;,1.0],AUTHORITY[&amp;quot;EPSG&amp;quot;,3857]]&lt;/WKT&gt;&lt;XOrigin&gt;-20037700&lt;/XOrigin&gt;&lt;YOrigin&gt;-30241100&lt;/YOrigin&gt;&lt;XYScale&gt;148923141.92838538&lt;/XYScale&gt;&lt;ZOrigin&gt;-100000&lt;/ZOrigin&gt;&lt;ZScale&gt;10000&lt;/ZScale&gt;&lt;MOrigin&gt;-100000&lt;/MOrigin&gt;&lt;MScale&gt;10000&lt;/MScale&gt;&lt;XYTolerance&gt;0.001&lt;/XYTolerance&gt;&lt;ZTolerance&gt;0.00020000000000000001&lt;/ZTolerance&gt;&lt;MTolerance&gt;0.00020000000000000001&lt;/MTolerance&gt;&lt;HighPrecision&gt;true&lt;/HighPrecision&gt;&lt;WKID&gt;102100&lt;/WKID&gt;&lt;LatestWKID&gt;3857&lt;/LatestWKID&gt;&lt;/ProjectedCoordinateSystem&gt;</peXml>
</coordRef>
</DataProperties>
<SyncDate>20210729</SyncDate>
<SyncTime>09441100</SyncTime>
<ModDate>20210729</ModDate>
<ModTime>09441100</ModTime>
</Esri>
<dataIdInfo>
<envirDesc Sync="TRUE"> Version 6.2 (Build 9200) ; Esri ArcGIS 10.8.0.12790</envirDesc>
<dataLang>
<languageCode Sync="TRUE" value="eng"/>
<countryCode Sync="TRUE" value="USA"/>
</dataLang>
<idCitation>
<resTitle Sync="TRUE">p180777_A2G_UAV</resTitle>
<presForm>
<PresFormCd Sync="TRUE" value="011"/>
</presForm>
</idCitation>
<spatRpType>
<SpatRepTypCd Sync="TRUE" value="002"/>
</spatRpType>
<dataExt>
<geoEle>
<GeoBndBox esriExtentType="search">
<exTypeCode Sync="TRUE">1</exTypeCode>
<westBL Sync="TRUE">-93.679374</westBL>
<eastBL Sync="TRUE">-93.668135</eastBL>
<northBL Sync="TRUE">39.307393</northBL>
<southBL Sync="TRUE">39.301632</southBL>
</GeoBndBox>
</geoEle>
</dataExt>
<idAbs/>
<searchKeys>
<keyword>Internal</keyword>
</searchKeys>
<idPurp>UAV Data</idPurp>
<idCredit/>
<resConst>
<Consts>
<useLimit/>
</Consts>
</resConst>
</dataIdInfo>
<mdLang>
<languageCode Sync="TRUE" value="eng"/>
<countryCode Sync="TRUE" value="USA"/>
</mdLang>
<distInfo>
<distFormat>
<formatName Sync="TRUE">SDE Raster Dataset</formatName>
</distFormat>
</distInfo>
<mdHrLv>
<ScopeCd Sync="TRUE" value="005"/>
</mdHrLv>
<mdHrLvName Sync="TRUE">dataset</mdHrLvName>
<refSysInfo>
<RefSystem>
<refSysID>
<identCode Sync="TRUE" code="3857"/>
<idCodeSpace Sync="TRUE">EPSG</idCodeSpace>
<idVersion Sync="TRUE">8.8(9.3.1.2)</idVersion>
</refSysID>
</RefSystem>
</refSysInfo>
<spdoinfo>
<rastinfo>
<rasttype Sync="TRUE">Pixel</rasttype>
<rowcount Sync="TRUE">46096</rowcount>
<colcount Sync="TRUE">69587</colcount>
<rastxsz Sync="TRUE">0.017980</rastxsz>
<rastysz Sync="TRUE">0.017980</rastysz>
<rastbpp Sync="TRUE">8</rastbpp>
<vrtcount Sync="TRUE">1</vrtcount>
<rastorig Sync="TRUE">Upper Left</rastorig>
<rastcmap Sync="TRUE">FALSE</rastcmap>
<rastcomp Sync="TRUE">LZ77</rastcomp>
<rastband Sync="TRUE">3</rastband>
<rastdtyp Sync="TRUE">pixel codes</rastdtyp>
<rastifor Sync="TRUE">SDR</rastifor>
<rastplyr Sync="TRUE">TRUE</rastplyr>
</rastinfo>
</spdoinfo>
<spref>
<horizsys>
<planar>
<planci>
<plance Sync="TRUE">row and column</plance>
<coordrep>
<absres Sync="TRUE">0.017980</absres>
<ordres Sync="TRUE">0.017980</ordres>
</coordrep>
</planci>
</planar>
</horizsys>
</spref>
<mdDateSt Sync="TRUE">20210729</mdDateSt>
</metadata>
