View In:
ArcGIS JavaScript
ArcGIS Online Map Viewer
ArcGIS Earth
ArcMap
View Footprint In:
ArcGIS Online Map Viewer
Service Description: TWM_Survey/TWM_IMAGERY_SDE_p180777_A1B_UAV
Name: TWM_Survey/TWM_IMAGERY_SDE_p180777_A1B_UAV
Description:
Single Fused Map Cache: false
Extent:
XMin: -1.0360774017529756E7
YMin: 4815622.223533603
XMax: -1.0358982398010325E7
YMax: 4815886.673589991
Spatial Reference: 102100
(3857)
LatestVCSWkid(0)
Initial Extent:
XMin: -1.0360774017529756E7
YMin: 4815622.223533603
XMax: -1.0358982398010325E7
YMax: 4815886.673589991
Spatial Reference: 102100
(3857)
LatestVCSWkid(0)
Full Extent:
XMin: -1.0360774017529756E7
YMin: 4815622.223533603
XMax: -1.0358982398010325E7
YMax: 4815886.673589991
Spatial Reference: 102100
(3857)
LatestVCSWkid(0)
Pixel Size X: 0.01910490220980554
Pixel Size Y: 0.01910490220979937
Band Count: 3
Pixel Type: U8
RasterFunction Infos: {"rasterFunctionInfos": [{
"name": "None",
"description": "",
"help": ""
}]}
Mensuration Capabilities: Basic
Has Histograms: true
Has Colormap: false
Has Multi Dimensions : false
Rendering Rule:
Min Scale: 0
Max Scale: 0
Copyright Text:
Service Data Type: esriImageServiceDataTypeRGB
Min Values: 0, 0, 0
Max Values: 255, 255, 255
Mean Values: 92.25949556494314, 101.47958002408114, 92.11932436451224
Standard Deviation Values: 63.89388244561735, 63.83062481594255, 62.766504586807905
Object ID Field:
Fields:
None
Default Mosaic Method: Center
Allowed Mosaic Methods:
SortField:
SortValue: null
Mosaic Operator: First
Default Compression Quality: 75
Default Resampling Method: Bilinear
Max Record Count: null
Max Image Height: 4100
Max Image Width: 15000
Max Download Image Count: null
Max Mosaic Image Count: null
Allow Raster Function: true
Allow Copy: true
Allow Analysis: true
Allow Compute TiePoints: false
Supports Statistics: false
Supports Advanced Queries: false
Use StandardizedQueries: true
Raster Type Infos:
Name: Raster Dataset
Description: Supports all ArcGIS Raster Datasets
Help:
Has Raster Attribute Table: false
Edit Fields Info: null
Ownership Based AccessControl For Rasters: null
Child Resources:
Info
Histograms
Statistics
Key Properties
Legend
Raster Function Infos
Supported Operations:
Export Image
Identify
Measure
Compute Histograms
Compute Statistics Histograms
Get Samples
Compute Class Statistics
Query Boundary
Compute Pixel Location
Compute Angles
Validate
Project