View In:
ArcGIS JavaScript
ArcGIS Online Map Viewer
ArcGIS Earth
ArcMap
View Footprint In:
ArcGIS Online Map Viewer
Service Description: Hecker_IL/Hecker_2021
Name: Hecker_IL/Hecker_2021
Description:
Single Fused Map Cache: false
Extent:
XMin: 2334114.2572382605
YMin: 583511.5168305751
XMax: 2369076.2572382605
YMax: 601501.0168305751
Spatial Reference: 102672
(3436)
LatestVCSWkid(0)
Initial Extent:
XMin: 2334114.2572382605
YMin: 583511.5168305751
XMax: 2369076.2572382605
YMax: 601501.0168305751
Spatial Reference: 102672
(3436)
LatestVCSWkid(0)
Full Extent:
XMin: 2334114.2572382605
YMin: 583511.5168305751
XMax: 2369076.2572382605
YMax: 601501.0168305751
Spatial Reference: 102672
(3436)
LatestVCSWkid(0)
Pixel Size X: 0.25
Pixel Size Y: 0.25
Band Count: 4
Pixel Type: U8
RasterFunction Infos: {"rasterFunctionInfos": [{
"name": "None",
"description": "",
"help": ""
}]}
Mensuration Capabilities: Basic
Has Histograms: true
Has Colormap: false
Has Multi Dimensions : false
Rendering Rule:
Min Scale: 0
Max Scale: 0
Copyright Text:
Service Data Type: esriImageServiceDataTypeGeneric
Min Values: 0, 0, 0, 0
Max Values: 255, 255, 255, 255
Mean Values: 116.8661526931936, 115.22427619463485, 116.10114486582478, 254.98718797671748
Standard Deviation Values: 33.290778506047666, 30.27734157138406, 27.38510202664106, 1.8067684524561378
Object ID Field:
Fields:
None
Default Mosaic Method: Center
Allowed Mosaic Methods:
SortField:
SortValue: null
Mosaic Operator: First
Default Compression Quality: 95
Default Resampling Method: Bilinear
Max Record Count: null
Max Image Height: 4100
Max Image Width: 15000
Max Download Image Count: null
Max Mosaic Image Count: null
Allow Raster Function: true
Allow Copy: true
Allow Analysis: true
Allow Compute TiePoints: false
Supports Statistics: false
Supports Advanced Queries: false
Use StandardizedQueries: true
Raster Type Infos:
Name: Raster Dataset
Description: Supports all ArcGIS Raster Datasets
Help:
Has Raster Attribute Table: false
Edit Fields Info: null
Ownership Based AccessControl For Rasters: null
Child Resources:
Info
Histograms
Statistics
Key Properties
Legend
Raster Function Infos
Supported Operations:
Export Image
Identify
Measure
Compute Histograms
Compute Statistics Histograms
Get Samples
Compute Class Statistics
Query Boundary
Compute Pixel Location
Compute Angles
Validate
Project