View In:
ArcGIS JavaScript
ArcGIS Online Map Viewer
ArcGIS Earth
ArcMap
View Footprint In:
ArcGIS Online Map Viewer
Service Description: TWM_Survey/p180777_A1C_UAV
Name: TWM_Survey/p180777_A1C_UAV
Description:
Single Fused Map Cache: false
Extent:
XMin: -1.0367980977801789E7
YMin: 4806116.3533743415
XMax: -1.0367321088352969E7
YMax: 4807017.1508546565
Spatial Reference: 102100
(3857)
LatestVCSWkid(0)
Initial Extent:
XMin: -1.0367980977801789E7
YMin: 4806116.3533743415
XMax: -1.0367321088352969E7
YMax: 4807017.1508546565
Spatial Reference: 102100
(3857)
LatestVCSWkid(0)
Full Extent:
XMin: -1.0367980977801789E7
YMin: 4806116.3533743415
XMax: -1.0367321088352969E7
YMax: 4807017.1508546565
Spatial Reference: 102100
(3857)
LatestVCSWkid(0)
Pixel Size X: 0.01795275590553315
Pixel Size Y: 0.017952755905512
Band Count: 3
Pixel Type: U8
RasterFunction Infos: {"rasterFunctionInfos": [{
"name": "None",
"description": "",
"help": ""
}]}
Mensuration Capabilities: Basic
Has Histograms: true
Has Colormap: false
Has Multi Dimensions : false
Rendering Rule:
Min Scale: 0
Max Scale: 0
Copyright Text:
Service Data Type: esriImageServiceDataTypeRGB
Min Values: 0, 0, 0
Max Values: 255, 255, 255
Mean Values: 84.33351049958489, 93.07323890299313, 88.64781372434301
Standard Deviation Values: 74.73479775442146, 77.36402492323091, 76.45441090675891
Object ID Field:
Fields:
None
Default Mosaic Method: Center
Allowed Mosaic Methods:
SortField:
SortValue: null
Mosaic Operator: First
Default Compression Quality: 75
Default Resampling Method: Bilinear
Max Record Count: null
Max Image Height: 4100
Max Image Width: 15000
Max Download Image Count: null
Max Mosaic Image Count: null
Allow Raster Function: true
Allow Copy: true
Allow Analysis: true
Allow Compute TiePoints: false
Supports Statistics: false
Supports Advanced Queries: false
Use StandardizedQueries: true
Raster Type Infos:
Name: Raster Dataset
Description: Supports all ArcGIS Raster Datasets
Help:
Has Raster Attribute Table: false
Edit Fields Info: null
Ownership Based AccessControl For Rasters: null
Child Resources:
Info
Histograms
Statistics
Key Properties
Legend
Raster Function Infos
Supported Operations:
Export Image
Identify
Measure
Compute Histograms
Compute Statistics Histograms
Get Samples
Compute Class Statistics
Query Boundary
Compute Pixel Location
Compute Angles
Validate
Project